BEGIN:VCALENDAR
VERSION:2.0
PRODID:-//Tukios.com/
BEGIN:VEVENT
UID:5ff41e53-b97e-4a45-bc33-52440d170f02@www.ballhornchapels.com
DTSTAMP:20260421T185020Z
DTSTART:20260501T173000Z
DTEND:20260501T183000Z
SUMMARY:Memorial Service
DESCRIPTION:
URL:https://www.ballhornchapels.com/obituaries/jack-schaap
LOCATION: 3215 Saemann Ave  Sheboygan WI 53081
GEO:43.7642334;-87.7504486
END:VEVENT
END:VCALENDAR