BEGIN:VCALENDAR
VERSION:2.0
PRODID:-//Tukios.com/
BEGIN:VEVENT
UID:830810f6-ad03-4fb4-b914-fc37ce3f1b70@www.ballhornchapels.com
DTSTAMP:20260421T184941Z
DTSTART:20260501T153000Z
DTEND:20260501T173000Z
SUMMARY:Visitation
DESCRIPTION:
URL:https://www.ballhornchapels.com/obituaries/jack-schaap
LOCATION: 3215 Saemann Ave  Sheboygan WI 53081
GEO:43.7642334;-87.7504486
END:VEVENT
END:VCALENDAR